BEGIN:VCALENDAR
VERSION:2.0
PRODID:-//Association Planning-Chat - ECPv6.15.20//NONSGML v1.0//EN
CALSCALE:GREGORIAN
METHOD:PUBLISH
X-ORIGINAL-URL:https://planningchat17.fr
X-WR-CALDESC:Évènements pour Association Planning-Chat
REFRESH-INTERVAL;VALUE=DURATION:PT1H
X-Robots-Tag:noindex
X-PUBLISHED-TTL:PT1H
BEGIN:VTIMEZONE
TZID:Europe/Paris
BEGIN:DAYLIGHT
TZOFFSETFROM:+0100
TZOFFSETTO:+0200
TZNAME:CEST
DTSTART:20210328T010000
END:DAYLIGHT
BEGIN:STANDARD
TZOFFSETFROM:+0200
TZOFFSETTO:+0100
TZNAME:CET
DTSTART:20211031T010000
END:STANDARD
BEGIN:DAYLIGHT
TZOFFSETFROM:+0100
TZOFFSETTO:+0200
TZNAME:CEST
DTSTART:20220327T010000
END:DAYLIGHT
BEGIN:STANDARD
TZOFFSETFROM:+0200
TZOFFSETTO:+0100
TZNAME:CET
DTSTART:20221030T010000
END:STANDARD
BEGIN:DAYLIGHT
TZOFFSETFROM:+0100
TZOFFSETTO:+0200
TZNAME:CEST
DTSTART:20230326T010000
END:DAYLIGHT
BEGIN:STANDARD
TZOFFSETFROM:+0200
TZOFFSETTO:+0100
TZNAME:CET
DTSTART:20231029T010000
END:STANDARD
END:VTIMEZONE
BEGIN:VEVENT
DTSTART;VALUE=DATE:20221210
DTEND;VALUE=DATE:20221212
DTSTAMP:20260421T223623
CREATED:20221117T142226Z
LAST-MODIFIED:20221117T142226Z
UID:19878-1670630400-1670803199@planningchat17.fr
SUMMARY:Vide-greniers 10 et 11 décembre à La Pallice
DESCRIPTION:Un nouveau vide-greniers de l’association prévu le week-end du 10 & 11 décembre\, à la salle des fêtes de La Pallice ! \n\n\nVêtements\, petit électroménager\, objets déco\, livres\, jouets… Profitez de bonnes affaires\, tout en faisant une bonne action ! Tous les bénéfices iront directement à l’association\, afin de nous aider lors de nos missions quotidiennes (stérilisation\, soins aux chats\, nourrissage de chats errants\, placement en famille d’accueil\, etc.) \nSi vous le souhaitez\, vous pourrez aussi nous déposer des croquettes\, de la pâté ou de la litière. \nVous voulez nous donner un coup de main ? Ça tombe bien\, nous avons toujours besoin de bénévoles pour l’organisation et l’installation !\n→ Pour cela\, appelez Cécile au 0627353083 ou envoyez-nous un message \n\n\nMerci à vous et à très bientôt !
URL:https://planningchat17.fr/agenda/vide-greniers-10-et-11-decembre-a-la-pallice/
LOCATION:Salle des fêtes de la Pallice\,  42 Bd Emile Delmas\,\, La Rochelle\, 17000\, France
CATEGORIES:Vide-greniers
END:VEVENT
END:VCALENDAR