BEGIN:VCALENDAR
VERSION:2.0
PRODID:-//Association Planning-Chat - ECPv6.15.20//NONSGML v1.0//EN
CALSCALE:GREGORIAN
METHOD:PUBLISH
X-ORIGINAL-URL:https://planningchat17.fr
X-WR-CALDESC:Évènements pour Association Planning-Chat
REFRESH-INTERVAL;VALUE=DURATION:PT1H
X-Robots-Tag:noindex
X-PUBLISHED-TTL:PT1H
BEGIN:VTIMEZONE
TZID:Europe/Paris
BEGIN:DAYLIGHT
TZOFFSETFROM:+0100
TZOFFSETTO:+0200
TZNAME:CEST
DTSTART:20210328T010000
END:DAYLIGHT
BEGIN:STANDARD
TZOFFSETFROM:+0200
TZOFFSETTO:+0100
TZNAME:CET
DTSTART:20211031T010000
END:STANDARD
BEGIN:DAYLIGHT
TZOFFSETFROM:+0100
TZOFFSETTO:+0200
TZNAME:CEST
DTSTART:20220327T010000
END:DAYLIGHT
BEGIN:STANDARD
TZOFFSETFROM:+0200
TZOFFSETTO:+0100
TZNAME:CET
DTSTART:20221030T010000
END:STANDARD
BEGIN:DAYLIGHT
TZOFFSETFROM:+0100
TZOFFSETTO:+0200
TZNAME:CEST
DTSTART:20230326T010000
END:DAYLIGHT
BEGIN:STANDARD
TZOFFSETFROM:+0200
TZOFFSETTO:+0100
TZNAME:CET
DTSTART:20231029T010000
END:STANDARD
END:VTIMEZONE
BEGIN:VEVENT
DTSTART;TZID=Europe/Paris:20220409T203000
DTEND;TZID=Europe/Paris:20220409T230000
DTSTAMP:20260423T190543
CREATED:20220325T110911Z
LAST-MODIFIED:20220406T084910Z
UID:17116-1649536200-1649545200@planningchat17.fr
SUMMARY:Concert le 9 avril
DESCRIPTION:Concert Les filles du barbier\nau profit de l’association Planning Chat\nLibre participation – buvette
URL:https://planningchat17.fr/agenda/concert-le-9-avril/
LOCATION:Salle du Foyer Rural\, 3 Rue du Château\, Perigny\, 17180\, France
CATEGORIES:Spectacles/théâtre
ATTACH;FMTTYPE=image/jpeg:https://planningchat17.fr/wp-content/uploads/2022/03/6110A2D2-64EB-4885-AEDA-4E20D39BC718-scaled-e1649234589230.jpeg
END:VEVENT
END:VCALENDAR