BEGIN:VCALENDAR
VERSION:2.0
PRODID:-//Association Planning-Chat - ECPv6.15.20//NONSGML v1.0//EN
CALSCALE:GREGORIAN
METHOD:PUBLISH
X-WR-CALNAME:Association Planning-Chat
X-ORIGINAL-URL:https://planningchat17.fr
X-WR-CALDESC:Évènements pour Association Planning-Chat
REFRESH-INTERVAL;VALUE=DURATION:PT1H
X-Robots-Tag:noindex
X-PUBLISHED-TTL:PT1H
BEGIN:VTIMEZONE
TZID:Europe/Paris
BEGIN:DAYLIGHT
TZOFFSETFROM:+0100
TZOFFSETTO:+0200
TZNAME:CEST
DTSTART:20210328T010000
END:DAYLIGHT
BEGIN:STANDARD
TZOFFSETFROM:+0200
TZOFFSETTO:+0100
TZNAME:CET
DTSTART:20211031T010000
END:STANDARD
BEGIN:DAYLIGHT
TZOFFSETFROM:+0100
TZOFFSETTO:+0200
TZNAME:CEST
DTSTART:20220327T010000
END:DAYLIGHT
BEGIN:STANDARD
TZOFFSETFROM:+0200
TZOFFSETTO:+0100
TZNAME:CET
DTSTART:20221030T010000
END:STANDARD
BEGIN:DAYLIGHT
TZOFFSETFROM:+0100
TZOFFSETTO:+0200
TZNAME:CEST
DTSTART:20230326T010000
END:DAYLIGHT
BEGIN:STANDARD
TZOFFSETFROM:+0200
TZOFFSETTO:+0100
TZNAME:CET
DTSTART:20231029T010000
END:STANDARD
END:VTIMEZONE
BEGIN:VEVENT
DTSTART;TZID=Europe/Paris:20220313T170000
DTEND;TZID=Europe/Paris:20220313T170000
DTSTAMP:20260423T204336
CREATED:20220215T190248Z
LAST-MODIFIED:20220304T160541Z
UID:16857-1647190800-1647190800@planningchat17.fr
SUMMARY:Concert le 13 mars à Saint-Xandre
DESCRIPTION:Tour du monde en musique ! \nHallelujah de Léonard Cohen\, musiques de films\, airs d’opéra (Carmen\, Turandot)\, chants et danses du monde\, musique celtique… \nChant & direction : Colette Schermann \nConcert de l’orchestre Vibr’Accord\nau profit de l’association Planning Chat \nLibre participation
URL:https://planningchat17.fr/agenda/concert-le-13-mars-a-saint-xandre/
LOCATION:Salle L’Agora\, Impasse des écoles\, Saint-Xandre\, 17138\, France
CATEGORIES:Spectacles/théâtre
ATTACH;FMTTYPE=image/png:https://planningchat17.fr/wp-content/uploads/2022/02/2022-03-13_concert_medium.png
END:VEVENT
END:VCALENDAR