BEGIN:VCALENDAR
VERSION:2.0
PRODID:-//Association Planning-Chat - ECPv6.15.20//NONSGML v1.0//EN
CALSCALE:GREGORIAN
METHOD:PUBLISH
X-ORIGINAL-URL:https://planningchat17.fr
X-WR-CALDESC:Évènements pour Association Planning-Chat
REFRESH-INTERVAL;VALUE=DURATION:PT1H
X-Robots-Tag:noindex
X-PUBLISHED-TTL:PT1H
BEGIN:VTIMEZONE
TZID:Europe/Paris
BEGIN:DAYLIGHT
TZOFFSETFROM:+0100
TZOFFSETTO:+0200
TZNAME:CEST
DTSTART:20250330T010000
END:DAYLIGHT
BEGIN:STANDARD
TZOFFSETFROM:+0200
TZOFFSETTO:+0100
TZNAME:CET
DTSTART:20251026T010000
END:STANDARD
BEGIN:DAYLIGHT
TZOFFSETFROM:+0100
TZOFFSETTO:+0200
TZNAME:CEST
DTSTART:20260329T010000
END:DAYLIGHT
BEGIN:STANDARD
TZOFFSETFROM:+0200
TZOFFSETTO:+0100
TZNAME:CET
DTSTART:20261025T010000
END:STANDARD
BEGIN:DAYLIGHT
TZOFFSETFROM:+0100
TZOFFSETTO:+0200
TZNAME:CEST
DTSTART:20270328T010000
END:DAYLIGHT
BEGIN:STANDARD
TZOFFSETFROM:+0200
TZOFFSETTO:+0100
TZNAME:CET
DTSTART:20271031T010000
END:STANDARD
END:VTIMEZONE
BEGIN:VEVENT
DTSTART;VALUE=DATE:20260220
DTEND;VALUE=DATE:20260222
DTSTAMP:20260419T195522
CREATED:20260216T191032Z
LAST-MODIFIED:20260216T191032Z
UID:33981-1771545600-1771718399@planningchat17.fr
SUMMARY:Collecte des 20 et 21 février à Carrefour Angoulins
DESCRIPTION:L’association Planning-Chat sera présente à Carrefour Angoulins pour une collecte de nourriture au profit des chats abandonnés. \nNous vous donnons rendez-vous les 20 et 21 février\, de 9h à 19h ! \nNous avons aussi besoin de volontaires\, n’hésitez pas à appelez Marie-Paule au 06-10-91-54-17 pour proposer votre aide. \nSi vous avez amis\, de la famille\, des collègues\, des voisins\, etc. qui souhaitent aider une association\, n’hésitez pas à les solliciter. Tous les soutiens sont les bienvenus pour la collecte ! Les collectes\, ce ne sont pas que des dons de nourriture\, ce sont aussi des occasions de sensibilisation à la misère féline. \nNous sommes leur voix !
URL:https://planningchat17.fr/agenda/collecte-des-20-et-21-fevrier-a-carrefour-angoulins/
LOCATION:Carrefour Angoulins\, Route de Rochefort\, ANGOULINS\, 17690\, France
CATEGORIES:Collecte de nourriture
ATTACH;FMTTYPE=image/png:https://planningchat17.fr/wp-content/uploads/2026/02/collecte-de-nourriture-fevrier-2026.png
END:VEVENT
END:VCALENDAR